BEGIN:VCALENDAR
VERSION:2.0
PRODID:-//Big Bad Wolf Tucson - ECPv6.15.20//NONSGML v1.0//EN
CALSCALE:GREGORIAN
METHOD:PUBLISH
X-WR-CALNAME:Big Bad Wolf Tucson
X-ORIGINAL-URL:https://bigbadwolftucson.com
X-WR-CALDESC:Events for Big Bad Wolf Tucson
REFRESH-INTERVAL;VALUE=DURATION:PT1H
X-Robots-Tag:noindex
X-PUBLISHED-TTL:PT1H
BEGIN:VTIMEZONE
TZID:America/Phoenix
BEGIN:STANDARD
TZOFFSETFROM:-0700
TZOFFSETTO:-0700
TZNAME:MST
DTSTART:20250101T000000
END:STANDARD
END:VTIMEZONE
BEGIN:VEVENT
DTSTART;TZID=America/Phoenix:20260612T190000
DTEND;TZID=America/Phoenix:20260612T230000
DTSTAMP:20260419T094006
CREATED:20251222T195932Z
LAST-MODIFIED:20251222T195932Z
UID:10003922-1781290800-1781305200@bigbadwolftucson.com
SUMMARY:Shell Shock
DESCRIPTION:Get ready for a night of timeless\, guitar-driven rock as Shell Shock brings the classics to life at the Big Bad Wolf. With a set packed full of familiar anthems and crowd-favorite rock hits\, Shell Shock delivers the kind of music that defined generations and still sounds just as good today. \nExpect big riffs\, sing-along choruses\, and grooves that keep the dance floor moving all night long. Paired with Big Bad Wolf’s great food\, cold drinks\, and electric atmosphere\, this is classic rock done right.
URL:https://bigbadwolftucson.com/event/shell-shock/2026-06-12/
LOCATION:Big Bad Wolf Bar & Grill Tucson\, 3706 N Oracle Rd\, Tucson\, AZ\, 85705-3282
CATEGORIES:Live Music
ATTACH;FMTTYPE=image/jpeg:https://bigbadwolftucson.com/wp-content/uploads/2025/03/Shell-SHock.jpg
END:VEVENT
BEGIN:VEVENT
DTSTART;TZID=America/Phoenix:20260710T190000
DTEND;TZID=America/Phoenix:20260710T230000
DTSTAMP:20260419T094006
CREATED:20251222T195932Z
LAST-MODIFIED:20251222T195932Z
UID:10003923-1783710000-1783724400@bigbadwolftucson.com
SUMMARY:Shell Shock
DESCRIPTION:Get ready for a night of timeless\, guitar-driven rock as Shell Shock brings the classics to life at the Big Bad Wolf. With a set packed full of familiar anthems and crowd-favorite rock hits\, Shell Shock delivers the kind of music that defined generations and still sounds just as good today. \nExpect big riffs\, sing-along choruses\, and grooves that keep the dance floor moving all night long. Paired with Big Bad Wolf’s great food\, cold drinks\, and electric atmosphere\, this is classic rock done right.
URL:https://bigbadwolftucson.com/event/shell-shock/2026-07-10/
LOCATION:Big Bad Wolf Bar & Grill Tucson\, 3706 N Oracle Rd\, Tucson\, AZ\, 85705-3282
CATEGORIES:Live Music
ATTACH;FMTTYPE=image/jpeg:https://bigbadwolftucson.com/wp-content/uploads/2025/03/Shell-SHock.jpg
END:VEVENT
BEGIN:VEVENT
DTSTART;TZID=America/Phoenix:20260814T190000
DTEND;TZID=America/Phoenix:20260814T230000
DTSTAMP:20260419T094006
CREATED:20251222T195932Z
LAST-MODIFIED:20251222T195932Z
UID:10003924-1786734000-1786748400@bigbadwolftucson.com
SUMMARY:Shell Shock
DESCRIPTION:Get ready for a night of timeless\, guitar-driven rock as Shell Shock brings the classics to life at the Big Bad Wolf. With a set packed full of familiar anthems and crowd-favorite rock hits\, Shell Shock delivers the kind of music that defined generations and still sounds just as good today. \nExpect big riffs\, sing-along choruses\, and grooves that keep the dance floor moving all night long. Paired with Big Bad Wolf’s great food\, cold drinks\, and electric atmosphere\, this is classic rock done right.
URL:https://bigbadwolftucson.com/event/shell-shock/2026-08-14/
LOCATION:Big Bad Wolf Bar & Grill Tucson\, 3706 N Oracle Rd\, Tucson\, AZ\, 85705-3282
CATEGORIES:Live Music
ATTACH;FMTTYPE=image/jpeg:https://bigbadwolftucson.com/wp-content/uploads/2025/03/Shell-SHock.jpg
END:VEVENT
BEGIN:VEVENT
DTSTART;TZID=America/Phoenix:20261009T190000
DTEND;TZID=America/Phoenix:20261009T230000
DTSTAMP:20260419T094006
CREATED:20251222T195932Z
LAST-MODIFIED:20251222T195932Z
UID:10003925-1791572400-1791586800@bigbadwolftucson.com
SUMMARY:Shell Shock
DESCRIPTION:Get ready for a night of timeless\, guitar-driven rock as Shell Shock brings the classics to life at the Big Bad Wolf. With a set packed full of familiar anthems and crowd-favorite rock hits\, Shell Shock delivers the kind of music that defined generations and still sounds just as good today. \nExpect big riffs\, sing-along choruses\, and grooves that keep the dance floor moving all night long. Paired with Big Bad Wolf’s great food\, cold drinks\, and electric atmosphere\, this is classic rock done right.
URL:https://bigbadwolftucson.com/event/shell-shock/2026-10-09/
LOCATION:Big Bad Wolf Bar & Grill Tucson\, 3706 N Oracle Rd\, Tucson\, AZ\, 85705-3282
CATEGORIES:Live Music
ATTACH;FMTTYPE=image/jpeg:https://bigbadwolftucson.com/wp-content/uploads/2025/03/Shell-SHock.jpg
END:VEVENT
END:VCALENDAR