BEGIN:VCALENDAR
VERSION:2.0
PRODID:-//Big Bad Wolf Tucson - ECPv6.15.20//NONSGML v1.0//EN
CALSCALE:GREGORIAN
METHOD:PUBLISH
X-WR-CALNAME:Big Bad Wolf Tucson
X-ORIGINAL-URL:https://bigbadwolftucson.com
X-WR-CALDESC:Events for Big Bad Wolf Tucson
REFRESH-INTERVAL;VALUE=DURATION:PT1H
X-Robots-Tag:noindex
X-PUBLISHED-TTL:PT1H
BEGIN:VTIMEZONE
TZID:America/Phoenix
BEGIN:STANDARD
TZOFFSETFROM:-0700
TZOFFSETTO:-0700
TZNAME:MST
DTSTART:20260101T000000
END:STANDARD
END:VTIMEZONE
BEGIN:VEVENT
DTSTART;TZID=America/Phoenix:20270406T110000
DTEND;TZID=America/Phoenix:20270406T150000
DTSTAMP:20260420T013348
CREATED:20250331T210843Z
LAST-MODIFIED:20250915T212936Z
UID:10003473-1807009200-1807023600@bigbadwolftucson.com
SUMMARY:Daytime Karaoke with Scotty
DESCRIPTION:
URL:https://bigbadwolftucson.com/event/daytime-karaoke-with-scotty/2027-04-06/
LOCATION:Big Bad Wolf Bar & Grill Tucson\, 3706 N Oracle Rd\, Tucson\, AZ\, 85705-3282
CATEGORIES:Live Music
END:VEVENT
BEGIN:VEVENT
DTSTART;TZID=America/Phoenix:20270413T110000
DTEND;TZID=America/Phoenix:20270413T150000
DTSTAMP:20260420T013348
CREATED:20250331T210843Z
LAST-MODIFIED:20250915T212936Z
UID:10003474-1807614000-1807628400@bigbadwolftucson.com
SUMMARY:Daytime Karaoke with Scotty
DESCRIPTION:
URL:https://bigbadwolftucson.com/event/daytime-karaoke-with-scotty/2027-04-13/
LOCATION:Big Bad Wolf Bar & Grill Tucson\, 3706 N Oracle Rd\, Tucson\, AZ\, 85705-3282
CATEGORIES:Live Music
END:VEVENT
BEGIN:VEVENT
DTSTART;TZID=America/Phoenix:20270420T110000
DTEND;TZID=America/Phoenix:20270420T150000
DTSTAMP:20260420T013348
CREATED:20250331T210843Z
LAST-MODIFIED:20250915T212936Z
UID:10003475-1808218800-1808233200@bigbadwolftucson.com
SUMMARY:Daytime Karaoke with Scotty
DESCRIPTION:
URL:https://bigbadwolftucson.com/event/daytime-karaoke-with-scotty/2027-04-20/
LOCATION:Big Bad Wolf Bar & Grill Tucson\, 3706 N Oracle Rd\, Tucson\, AZ\, 85705-3282
CATEGORIES:Live Music
END:VEVENT
BEGIN:VEVENT
DTSTART;TZID=America/Phoenix:20270427T110000
DTEND;TZID=America/Phoenix:20270427T150000
DTSTAMP:20260420T013348
CREATED:20250331T210843Z
LAST-MODIFIED:20250915T212936Z
UID:10003476-1808823600-1808838000@bigbadwolftucson.com
SUMMARY:Daytime Karaoke with Scotty
DESCRIPTION:
URL:https://bigbadwolftucson.com/event/daytime-karaoke-with-scotty/2027-04-27/
LOCATION:Big Bad Wolf Bar & Grill Tucson\, 3706 N Oracle Rd\, Tucson\, AZ\, 85705-3282
CATEGORIES:Live Music
END:VEVENT
END:VCALENDAR